Workbook

Sheet Eingaben
A2: Technische Spezifikation für REFUNA Hausstationen
A4: Administrative Angaben
A6: Bearbeitungsdatum
A7: Ortsnetz
A8: Ortsnetz-Wärmebezüger Nr.
A10: Wärmebezüger
A11: Name
A12: Adresse
A13: Wohnort
A14: Telefonnummer
A15: Anlagenstandort
A16: Adresse
... A27: Sämtliche nachfolgend geforderten Angaben stützen sich im Zweifelsfall auf die Vorgaben aus der TAV der Refuna AG.
A28: Die gültige Version ist Online abrufbar unter: | C28: www.refuna.ch/downloads
A29: Wird in irgendeiner Form von den geforderten Vorgaben abgewichen, bedarf dies eine schriftliche Genehmigung durch die REFUNA AG.
A37: Primärseite und Wärmeübergabestation
A39: Auslegungsdaten
A40: Bauvorhaben | B40: - | C40: 1
A41: Nennleistung Primärseite FW | B41: kW | C41: 10 | D41: =IFERROR(IF(D42="","",(VLOOKUP(C40,Hilfstabellen!A31:C32,3,FALSE))*D42),"") -> 10.0011
A42: Nenndurchfluss Primärseite FW | B42: l/h | D42: =IFERROR(IF((VLOOKUP(C40,Hilfstabellen!A31:C32,2,FALSE)*C41=0),"",(VLOOKUP(C40,Hilfstabellen!A31:C32,2,FALSE)*C41)),"") -> 159
A43: Dimension Hausanschlussleitung | B43: - | C43: =IF(AND(D42<>"",D42>10000),"starr: DN65",IFERROR(VLOOKUP(D41,Hilfstabellen!A2:B8,2,TRUE),"")) -> starr: DN20, flexibel: Ø 30 mm
A44: FW Temperatur VL bei Ta | B44: - 11 °C | C44: 115
B45: - 0 °C | C45: 95
B46: + 11 °C | C46: 75
A47: FW Temperatur RL bei Ta = | B47: - 11 °C | C47: =IFERROR(C101+Leistungskennzahlen!C11,"wird berechnet") -> 0 | D47: =IF(C47>55,"max. zulässige RL Temperatur ist 55 °C","")
B48: - 0 °C | C48: =IFERROR(C102+Leistungskennzahlen!D11,"wird berechnet") -> wird berechnet
B49: + 11 °C | C49: =IFERROR(C103+Leistungskennzahlen!E11,"wird berechnet") -> wird berechnet
A50: Normalbetriebsdruck | B50: bar | C50: 16
A51: Prüfdruck (Wasser) | B51: bar | C51: 37
A52: TS | B52: °C | C52: 140
A53: PS | B53: barü | C53: 16
A54: Nenndruckstufe | B54: - | C54: PN 25
A55: spez. Wärmekapazität | B55: kJ/kg*K | C55: 4.187
A57: Wasserqualität Wärmeträger
A58: pH - Wert bei 25 °C (Korrektur mit Na2CO3) | B58: - | C58: > 9.0
A59: NH3 | B59: ppm | C59: < 1
A60: O2 | B60: ppb | C60: < 20
A61: Leitfähigkeit | B61: µS/cm | C61: 5 bis 8
A63: Bauart der Hauszentrale
A64: Kompakt oder Split | B64: - | C64: 1 | D64: =IF(C64=1,"Kompakt","Split") -> Kompakt
...

Sheet Leistungskennzahlen
A2: Leistungskennzahlen
A4: Heizbetrieb
A5: Vom Hersteller ausgewiesene und zu garantierende Leistungskennzahlen des Wärmetauschers (Primärkreislauf/ Sekundärkreislauf) (nur grau markierte). Die REFUNA AG prüft stichprobenweise durch vor Ort Messungen, ob die ausgewiesenen Leistungsdaten und die Vorgaben der TAV eingehalten werden. Werden die Werte nicht erreicht, ist der Hersteller für die kostenlose Nachbesserung verpflichtet.
A7: Aussentemperatur | C7: Ta -11 °C | D7: Ta 0 °C | E7: Ta +11 °C
A8: Thermische Leistung | B8: kW | C8: =Eingaben!D41 -> 10.0011 | D8: =IFERROR(D10*Eingaben!C55*(Eingaben!C99-Eingaben!C102)/3600,"") | E8: =IFERROR(E10*Eingaben!C55*(Eingaben!C100-Eingaben!C103)/3600,"")
A9: Durchfluss Primärseite | B9: l / h | C9: =Eingaben!D42 -> 159 | D9: =IFERROR(D8*3600/(Eingaben!C55*(Eingaben!C45-Eingaben!C48)),"") | E9: =IFERROR(E8*3600/(Eingaben!C55*(Eingaben!C46-Eingaben!C49)),"")
A10: Durchfluss Sekundärseite | B10: l / h | C10: =IFERROR(C8*3600/(Eingaben!C55*(Eingaben!C98-Eingaben!C101)),"") | D10: =C10 | E10: =C10
A11: max. Grädigkeit | B11: K
A12: log. ΔT | B12: °C | C12: =IFERROR(((Eingaben!C44-Eingaben!C98)-(Eingaben!C47-Eingaben!C101))/LN((Eingaben!C44-Eingaben!C98)/(Eingaben!C47-Eingaben!C101)),"") | D12: =IFERROR(((Eingaben!C45-Eingaben!C99)-(Eingaben!C48-Eingaben!C102))/LN((Eingaben!C45-Eingaben!C99)/(Eingaben!C48-Eingaben!C102)),"") | E12: =IFERROR(((Eingaben!C46-Eingaben!C100)-(Eingaben!C49-Eingaben!C103))/LN((Eingaben!C46-Eingaben!C100)/(Eingaben!C49-Eingaben!C103)),"")
A13: K-Wert | B13: W / °C | C13: =IFERROR(C8*1000/C12,"") | D13: =IFERROR(D8*1000/D12,"") | E13: =IFERROR(E8*1000/E12,"")
A14: K-Wert | B14: W / °C / m2 | C14: =IFERROR(C13/Eingaben!$C$93,"") | D14: =IFERROR(D13/Eingaben!$C$93,"") | E14: =IFERROR(E13/Eingaben!$C$93,"")
A16: Trinkwarmwasser Aufheizbetrieb
A17: Vom Hersteller ausgewiesene und zu garantierende Leistungskennzahlen des Brauchwasser-Wärmetauscher-Systems (nur grau markierte). Die REFUNA AG prüft stichprobenweise durch vor Ort Messungen, ob die ausgewiesenen Leistungsdaten und die Vorgaben der TAV eingehalten werden. Werden die Werte nicht erreicht, ist der Hersteller für die kostenlose Nachbesserung verpflichtet.
A19: Aussentemperatur | C19: Ta -11 °C | F19: Ta 0 °C | I19: Ta +11 °C
A20: Fernwärme VL Temperatur | B20: °C | C20: =Eingaben!C44 -> 115 | F20: =Eingaben!C45 -> 95 | I20: =Eingaben!C46 -> 75
A21: Fernwärme RL Temperatur | B21: °C | C21: =IFERROR(C25+C27,"") | D21: =IFERROR(D25+D27,"") | E21: =IFERROR(E25+E27,"") | F21: =IFERROR(F25+F27,"") | G21: =IFERROR(G25+G27,"") | H21: =IFERROR(H25+H27,"") | I21: =IFERROR(I25+I27,"") | J21: =IFERROR(J25+J27,"") | K21: =IFERROR(K25+K27,"")
A22: Fernwärme Durchfluss | B22: l / h | C22: =IFERROR(C23*3600/(Eingaben!$C$55*($C$20-C21)),"") | D22: =IFERROR(D23*3600/(Eingaben!$C$55*($C$20-D21)),"") | E22: =IFERROR(E23*3600/(Eingaben!$C$55*($C$20-E21)),"") | F22: =IFERROR(F23*3600/(Eingaben!$C$55*($F$20-F21)),"") | G22: =IFERROR(G23*3600/(Eingaben!$C$55*($F$20-G21)),"") | H22: =IFERROR(H23*3600/(Eingaben!$C$55*($F$20-H21)),"") | I22: =Eingaben!D42 -> 159 | J22: =IFERROR(J23*3600/(Eingaben!$C$55*($I$20-J21)),"") | K22: =IFERROR(K23*3600/(Eingaben!$C$55*($I$20-K21)),"")
A23: Thermische Leistung | B23: kW | C23: =IFERROR(C26*Eingaben!$C$55*(C24-C25)/3600,"") | D23: =IFERROR(D26*Eingaben!$C$55*(D24-D25)/3600,"") | E23: =IFERROR(E26*Eingaben!$C$55*(E24-E25)/3600,"") | F23: =IFERROR(F26*Eingaben!$C$55*(F24-F25)/3600,"") | G23: =IFERROR(G26*Eingaben!$C$55*(G24-G25)/3600,"") | H23: =IFERROR(H26*Eingaben!$C$55*(H24-H25)/3600,"") | I23: =IFERROR(I22*Eingaben!$C$55*(I20-I21)/3600,"") | J23: =IFERROR(J26*Eingaben!$C$55*(J24-J25)/3600,"") | K23: =IFERROR(K26*Eingaben!$C$55*(K24-K25)/3600,"")
A24: Zwischenkreis VL Temperatur | B24: °C | C24: =IF(C33="","",(AVERAGE((SUM($C$33:$K$33))/9,$I$20))) | D24: =IF(D33="","",(AVERAGE((SUM($C$33:$K$33))/9,$I$20))) | E24: =IF(E33="","",(AVERAGE((SUM($C$33:$K$33))/9,$I$20))) | F24: =IF(F33="","",(AVERAGE((SUM($C$33:$K$33))/9,$I$20))) | G24: =IF(G33="","",(AVERAGE((SUM($C$33:$K$33))/9,$I$20))) | H24: =IF(H33="","",(AVERAGE((SUM($C$33:$K$33))/9,$I$20))) | I24: =IF(I33="","",(AVERAGE((SUM($C$33:$K$33))/9,$I$20))) | J24: =IF(J33="","",(AVERAGE((SUM($C$33:$K$33))/9,$I$20))) | K24: =IF(K33="","",(AVERAGE((SUM($C$33:$K$33))/9,$I$20)))
A25: Zwischenkreis RL Temperatur | B25: °C | C25: =IF(C34+C35=0,"",C34+C35) | D25: =IF(D34+D35=0,"",D34+D35) | E25: =IF(E34+E35=0,"",E34+E35) | F25: =IF(F34+F35=0,"",F34+F35) | G25: =IF(G34+G35=0,"",G34+G35) | H25: =IF(H34+H35=0,"",H34+H35) | I25: =IF(I34+I35=0,"",I34+I35) | J25: =IF(J34+J35=0,"",J34+J35) | K25: =IF(K34+K35=0,"",K34+K35)
A26: Zwischenkreis Durchfluss | B26: l / h | C26: =$I$26 | D26: =$I$26 | E26: =$I$26 | F26: =$I$26 | G26: =$I$26 | H26: =$I$26 | I26: =IFERROR(I23*3600/(Eingaben!C55*(I24-I25)),"") | J26: =I26 | K26: =I26
A27: max. Grädigkeit des FW - WT | B27: K
A28: log.-Temperaturdifferenz | B28: °C | C28: =IFERROR((($C$20-C24)-(C21-C25))/LN(($C$20-C24)/(C21-C25)),"") | D28: =IFERROR((($C$20-D24)-(D21-D25))/LN(($C$20-D24)/(D21-D25)),"") | E28: =IFERROR((($C$20-E24)-(E21-E25))/LN(($C$20-E24)/(E21-E25)),"") | F28: =IFERROR((($F$20-F24)-(F21-F25))/LN(($F$20-F24)/(F21-F25)),"") | G28: =IFERROR((($F$20-G24)-(G21-G25))/LN(($F$20-G24)/(G21-G25)),"") | H28: =IFERROR((($F$20-H24)-(H21-H25))/LN(($F$20-H24)/(H21-H25)),"") | I28: =IFERROR((($I$20-I24)-(I21-I25))/LN(($I$20-I24)/(I21-I25)),"") | J28: =IFERROR((($I$20-J24)-(J21-J25))/LN(($I$20-J24)/(J21-J25)),"") | K28: =IFERROR((($I$20-K24)-(K21-K25))/LN(($I$20-K24)/(K21-K25)),"")
A29: K-Wert | B29: W / °C | C29: =IFERROR(C23*1000/C28,"") | D29: =IFERROR(D23*1000/D28,"") | E29: =IFERROR(E23*1000/E28,"") | F29: =IFERROR(F23*1000/F28,"") | G29: =IFERROR(G23*1000/G28,"") | H29: =IFERROR(H23*1000/H28,"") | I29: =IFERROR(I23*1000/I28,"") | J29: =IFERROR(J23*1000/J28,"") | K29: =IFERROR(K23*1000/K28,"")
A30: K-Wert | B30: W / °C / m2 | C30: =IFERROR(C29/Eingaben!$C$93,"") | D30: =IFERROR(D29/Eingaben!$C$93,"") | E30: =IFERROR(E29/Eingaben!$C$93,"") | F30: =IFERROR(F29/Eingaben!$C$93,"") | G30: =IFERROR(G29/Eingaben!$C$93,"") | H30: =IFERROR(H29/Eingaben!$C$93,"") | I30: =IFERROR(I29/Eingaben!$C$93,"") | J30: =IFERROR(J29/Eingaben!$C$93,"") | K30: =IFERROR(K29/Eingaben!$C$93,"")
A32: Zeitpunkt des Aufheizvorgangs | B32: - | C32: Start | D32: Mitte | E32: Ende | F32: Start | G32: Mitte | H32: Ende | I32: Start | J32: Mitte | K32: Ende
A33: Trinkwarmwasseraufheiztemperatur | B33: °C
A34: max. Grädigkeit des BW-WT-Syst | B34: K
A35: Trinkwarmwassertemperatur unten | B35: °C
A36: Spez. Trinkwarmwasseraufheizung | B36: l / h | C36: =IFERROR(C23*3600/(Eingaben!$C$55*(C33-C35)),"") | D36: =IFERROR(D23*3600/(Eingaben!$C$55*(D33-D35)),"") | E36: =IFERROR(E23*3600/(Eingaben!$C$55*(E33-E35)),"") | F36: =IFERROR(F23*3600/(Eingaben!$C$55*(F33-F35)),"") | G36: =IFERROR(G23*3600/(Eingaben!$C$55*(G33-G35)),"") | H36: =IFERROR(H23*3600/(Eingaben!$C$55*(H33-H35)),"") | I36: =IFERROR(I23*3600/(Eingaben!$C$55*(I33-I35)),"") | J36: =IFERROR(J23*3600/(Eingaben!$C$55*(J33-J35)),"") | K36: =IFERROR(K23*3600/(Eingaben!$C$55*(K33-K35)),"")
A37: virtuelles log. ΔT BWW-Aufheizung | B37: °C | C37: =IFERROR(((C24-C33)-(C25-C35))/LN((C24-C33)/(C25-C35)),"") | D37: =IFERROR(((D24-D33)-(D25-D35))/LN((D24-D33)/(D25-D35)),"") | E37: =IFERROR(((E24-E33)-(E25-E35))/LN((E24-E33)/(E25-E35)),"") | F37: =IFERROR(((F24-F33)-(F25-F35))/LN((F24-F33)/(F25-F35)),"") | G37: =IFERROR(((G24-G33)-(G25-G35))/LN((G24-G33)/(G25-G35)),"") | H37: =IFERROR(((H24-H33)-(H25-H35))/LN((H24-H33)/(H25-H35)),"") | I37: =IFERROR(((I24-I33)-(I25-I35))/LN((I24-I33)/(I25-I35)),"") | J37: =IFERROR(((J24-J33)-(J25-J35))/LN((J24-J33)/(J25-J35)),"") | K37: =IFERROR(((K24-K33)-(K25-K35))/LN((K24-K33)/(K25-K35)),"")
A38: erforderlicher theor. k - Wert | B38: W / °C | C38: =IFERROR(C23*1000/C37,"") | D38: =IFERROR(D23*1000/D37,"") | E38: =IFERROR(E23*1000/E37,"") | F38: =IFERROR(F23*1000/F37,"") | G38: =IFERROR(G23*1000/G37,"") | H38: =IFERROR(H23*1000/H37,"") | I38: =IFERROR(I23*1000/I37,"") | J38: =IFERROR(J23*1000/J37,"") | K38: =IFERROR(K23*1000/K37,"")
A39: erforderlicher theor. k - Wert | B39: W / °C / m2 | C39: =IFERROR(C38/Eingaben!$C$127,"") | D39: =IFERROR(D38/Eingaben!$C$127,"") | E39: =IFERROR(E38/Eingaben!$C$127,"") | F39: =IFERROR(F38/Eingaben!$C$127,"") | G39: =IFERROR(G38/Eingaben!$C$127,"") | H39: =IFERROR(H38/Eingaben!$C$127,"") | I39: =IFERROR(I38/Eingaben!$C$127,"") | J39: =IFERROR(J38/Eingaben!$C$127,"") | K39: =IFERROR(K38/Eingaben!$C$127,"")
A40: theoretischer Unterbruch des Heizbetrieb für eine Trinkwarmwasseraufheizung von 70 % des Speichervolumens | B40: Min | C40: =IFERROR(Eingaben!$D$130/(C42*3600/(Eingaben!$C$55*((C33+D33+E33-C35-D35-E35)/3)))*60*0.7,"") | F40: =IFERROR(Eingaben!$D$130/(F42*3600/(Eingaben!$C$55*((F33+G33+H33-F35-G35-H35)/3)))*60*0.7,"") | I40: =IFERROR(Eingaben!$D$130/(I42*3600/(Eingaben!$C$55*((I33+J33+K33-I35-J35-K35)/3)))*60*0.7,"")
A41: Mittlere FW Rücklauftemperatur | B41: °C | C41: =IFERROR(AVERAGE(C21,D21,E21),"") | F41: =IFERROR(AVERAGE(F21,G21,H21),"") | I41: =IFERROR(AVERAGE(I21,J21,K21),"")
A42: Mittlere Trinkwarmwasserleistung | B42: kW | C42: =IFERROR(AVERAGE(C23,D23,E23),"") | F42: =IFERROR(AVERAGE(F23,G23,H23),"") | I42: =IFERROR(AVERAGE(I23,J23,K23),"")
A43: Mittlere FW-Ausnutzung | B43: % | C43: =IFERROR(C42/Eingaben!$C$41*100,"") | F43: =IFERROR(F42/Eingaben!$C$41*100,"") | I43: =IFERROR(I42/Eingaben!$C$41*100,"")

Sheet Datenblatt 1
A1: Datenblatt für Hausstation | F1: Datenblatt 1
A3: Ortsnetz | B3: =Eingaben!C7 -> 0 | C3: FW-Objekt Nr. | D3: =Eingaben!C8 -> 0 | E3: Datum | F3: =Eingaben!C6 -> 0
A5: Wärmebezüger | D5: Verantwortlich für die Auslegung
A6: Name | B6: =Eingaben!C11 -> 0 | D6: Firma | E6: =Eingaben!C19 -> 0
A7: Adresse | B7: =Eingaben!C12 -> 0 | D7: Adresse | E7: =Eingaben!C20 -> 0
A8: Wohnort | B8: =Eingaben!C13 -> 0 | D8: PLZ / Ort | E8: =Eingaben!C21 -> 0
A9: Telefon-Nr. | B9: =Eingaben!C14 -> 0 | D9: Telefon-Nr. | E9: =Eingaben!C22 -> 0
A10: Anlagestandort | B10: =Eingaben!C15 -> 0 | D10: Sachbearbeiter:in | E10: =Eingaben!C23 -> 0
A11: Adresse | B11: =Eingaben!C16 -> 0 | D11: Datum + Unterschrift
A12: Das Datenblatt ist im Doppel einzureichen
A14: Heizsystemauslegung bei Aussentemperatur -11 °C
A15: REFUNA - Nennleistung in kW | C15: =Eingaben!D41 -> 10.0011
A16: Durchfluss bei REFUNA Nennleistung | C16: =Eingaben!D42 -> 159
A17: Bauart der Übergabestation | C17: =Eingaben!D64 -> Kompakt
A19: Wärmetauscher und Pumpen
C20: Fernwärmekreis / Heizkreis | E20: Heizkreis / Trinkwarmwasserkreis
A21: Prinzip | C21: =IF(Eingaben!C82=1,"Platten (kupfergelötet)",IF(Eingaben!C82=2,"U-Rohrbündel","Geraderohr")) -> Platten (kupfergelötet) | E21: =IF(Eingaben!C115=1,"Einfach Rohrbündel im Speicher",IF(Eingaben!C115=2,"Mehrfach Rohrbündel im Speicher",IF(Eingaben!C115=3,"Doppelmantelsystem",IF(Eingaben!C115=4,"Speicher in Speicher-System","aussenliegend")))) -> Einfach Rohrbündel im Speicher
A22: Fabrikat | C22: =Eingaben!C83 -> 0 | E22: =Eingaben!C116 -> 0
A23: Typ | C23: =Eingaben!C84 -> 0 | E23: =Eingaben!C117 -> 0
C25: primär | D25: sekundär | E25: primär | F25: sekundär
A27: Verbindungsart | C27: =IF(Eingaben!C85=1,"geflanscht","geschraubt") -> geflanscht | D27: =IF(Eingaben!D85=1,"geflanscht","geschraubt") -> geschraubt | E27: =IF(Eingaben!C119=1,"geflanscht","geschraubt") -> geflanscht | F27: =IF(Eingaben!D119=1,"geflanscht","geschraubt") -> geschraubt
A28: Dichtungsmaterial | C28: =IF(Eingaben!C87=1,Hilfstabellen!F35,IF(Eingaben!C87=2,Hilfstabellen!F36,IF(Eingaben!C87=3,Hilfstabellen!F37,Hilfstabellen!F38))) -> Metalldichtungen, aus Reinkupfer und Reinnickel | D28: =IF(Eingaben!D87=1,Hilfstabellen!F35,IF(Eingaben!D87=2,Hilfstabellen!F36,IF(Eingaben!D87=3,Hilfstabellen!F37,Hilfstabellen!F38))) -> PTFE- Dichtungen, Topchem 2000 | E28: =IF(Eingaben!C121=1,Hilfstabellen!F35,IF(Eingaben!C121=2,Hilfstabellen!F36,IF(Eingaben!C121=3,Hilfstabellen!F37,Hilfstabellen!F38))) -> PTFE- Dichtungen, Topchem 2000 | F28: =IF(Eingaben!D121=1,Hilfstabellen!F35,IF(Eingaben!D121=2,Hilfstabellen!F36,IF(Eingaben!D121=3,Hilfstabellen!F37,Hilfstabellen!F38))) -> Graphitdichtungen, Graphit Laminat mit Spiessblech
A29: maximal zulässiger Druck | C29: =Eingaben!C89 -> 0 | D29: =Eingaben!D89 -> 0 | E29: =Eingaben!C123 -> 0 | F29: =Eingaben!D123 -> 0
A30: maximal zulässige Temperatur | C30: =Eingaben!C90 -> 0 | D30: =Eingaben!D90 -> 0 | E30: =Eingaben!C124 -> 0 | F30: =Eingaben!D124 -> 0
A31: Druckverlust | C31: =Eingaben!C91*10 -> 0 | D31: =Eingaben!D91*10 -> 0 | E31: =Eingaben!C124 -> 0 | F31: =Eingaben!D124 -> 0
A32: Durchfluss | C32: =Eingaben!C92 -> 159 | D32: =Eingaben!D92 | E32: =Eingaben!C126 | F32: =Eingaben!D126
A33: Wärmetauscherfläche | C33: =Eingaben!C93 -> 0 | E33: =Eingaben!C127 -> 0
A35: Umwälzpumpe
A36: Fabrikat | C36: - | D36: =Eingaben!C106 -> 0 | E36: =Eingaben!C142 -> 0 | F36: =Eingaben!D142 -> 0
A37: Typ | C37: - | D37: =Eingaben!C107 -> 0 | E37: =Eingaben!C143 -> 0 | F37: =Eingaben!D143 -> 0
A39: Regler
A40: Fabrikat | C40: =Eingaben!C67 -> Siemens
A41: Typ | C41: =Eingaben!C68 -> 0
A43: Rücklaufbegrenzungsventil
A44: Fabrikat | C44: =Eingaben!C71 -> Danfoss
A45: Typ | C45: =Eingaben!C72 -> 0
A46: Nennweite | C46: =Eingaben!C73 -> 0
A47: Werkstoff | C47: =Eingaben!C74 -> 0
A48: kvs-Wert | C48: =Eingaben!C75 -> 0.4
A50: Heizkreis
...

Sheet Datenblatt 2
A1: Datenblatt für Hausstation | N1: Datenblatt 2
A3: Ortsnetz | B3: =Eingaben!C7 -> 0 | C3: FW-Objekt Nr. | E3: =Eingaben!C8 -> 0 | I3: Datum | J3: =Eingaben!C6 -> 0
A5: Wärmebezüger | D5: Verantwortlich für die Auslegung
A6: Name | B6: =Eingaben!C11 -> 0 | D6: Firma | H6: =Eingaben!C19 -> 0
A7: Adresse | B7: =Eingaben!C12 -> 0 | D7: Adresse | H7: =Eingaben!C20 -> 0
A8: Wohnort | B8: =Eingaben!C13 -> 0 | D8: PLZ / Ort | H8: =Eingaben!C21 -> 0
A9: Telefon-Nr. | B9: =Eingaben!C14 -> 0 | D9: Telefon-Nr. | H9: =Eingaben!C22 -> 0
A10: Anlagestandort | B10: =Eingaben!C15 -> 0 | D10: Sachbearbeiter:in | H10: =Eingaben!C23 -> 0
A11: Adresse | B11: =Eingaben!C16 -> 0 | D11: Datum + Unterschrift
A12: Das Datenblatt ist im Doppel einzureichen
A14: Betriebsart | D14: Heizbetrieb | F14: Trinkwarmwasseraufheizung
A15: Brauchwasseraufheizung Zeitpunkt | F15: Beginn | G15: Mitte | H15: Ende | I15: Beginn | J15: Mitte | K15: Ende | L15: Beginn | M15: Mitte | N15: Ende
A16: Aussentemperatur [°C ] | C16: -11 | D16: 0 | E16: 11 | G16: -11 | J16: 0 | M16: 11 | O16: [°C]
A17: Fernwärmeseite | B17: Vorlauftemperatur | C17: 115 | D17: 95 | E17: 75 | F17: 115 | G17: 115 | H17: 115 | I17: 95 | J17: 95 | K17: 95 | L17: 75 | M17: 75 | N17: 75 | O17: [°C]
B18: Rücklauftemeratur | C18: =IF(Eingaben!C47=0,"",Eingaben!C47) | D18: =IF(Eingaben!C48="wird berechnet","",Eingaben!C48) | E18: =IF(Eingaben!C49="wird berechnet","",Eingaben!C49) | F18: =Leistungskennzahlen!C21 | G18: =Leistungskennzahlen!D21 | H18: =Leistungskennzahlen!E21 | I18: =Leistungskennzahlen!F21 | J18: =Leistungskennzahlen!G21 | K18: =Leistungskennzahlen!H21 | L18: =Leistungskennzahlen!I21 | M18: =Leistungskennzahlen!J21 | N18: =Leistungskennzahlen!K21 | O18: [°C]
B19: Durchfluss | C19: =Leistungskennzahlen!C9 -> 159 | D19: =Leistungskennzahlen!D9 | E19: =Leistungskennzahlen!E9 | F19: =Leistungskennzahlen!C22 | G19: =Leistungskennzahlen!D22 | H19: =Leistungskennzahlen!E22 | I19: =Leistungskennzahlen!F22 | J19: =Leistungskennzahlen!G22 | K19: =Leistungskennzahlen!H22 | L19: =Leistungskennzahlen!I22 -> 159 | M19: =Leistungskennzahlen!J22 | N19: =Leistungskennzahlen!K22 | O19: [l/h]
B20: Leistung | C20: =Leistungskennzahlen!C8 -> 10.0011 | D20: =Leistungskennzahlen!D8 | E20: =Leistungskennzahlen!E8 | F20: =Leistungskennzahlen!C23 | G20: =Leistungskennzahlen!D23 | H20: =Leistungskennzahlen!E23 | I20: =Leistungskennzahlen!F23 | J20: =Leistungskennzahlen!G23 | K20: =Leistungskennzahlen!H23 | L20: =Leistungskennzahlen!I23 | M20: =Leistungskennzahlen!J23 | N20: =Leistungskennzahlen!K23 | O20: [kW]
A22: Heizseite bzw. Zwischenkreisseite | B22: Vorlauftemperatur | C22: =IF(Eingaben!C98=0,"",Eingaben!C98) | D22: =IF(Eingaben!C99=0,"",Eingaben!C99) | E22: =IF(Eingaben!C100=0,"",Eingaben!C100) | F22: =Leistungskennzahlen!C24 | G22: =Leistungskennzahlen!D24 | H22: =Leistungskennzahlen!E24 | I22: =Leistungskennzahlen!F24 | J22: =Leistungskennzahlen!G24 | K22: =Leistungskennzahlen!H24 | L22: =Leistungskennzahlen!I24 | M22: =Leistungskennzahlen!J24 | N22: =Leistungskennzahlen!K24 | O22: [°C]
B23: Rücklauftemeratur | C23: =IF(Eingaben!C101=0,"",Eingaben!C101) | D23: =Eingaben!C102 | E23: =Eingaben!C103 | F23: =Leistungskennzahlen!C25 | G23: =Leistungskennzahlen!D25 | H23: =Leistungskennzahlen!E25 | I23: =Leistungskennzahlen!F25 | J23: =Leistungskennzahlen!G25 | K23: =Leistungskennzahlen!H25 | L23: =Leistungskennzahlen!I25 | M23: =Leistungskennzahlen!J25 | N23: =Leistungskennzahlen!K25 | O23: [°C]
B24: Durchfluss | C24: =Leistungskennzahlen!C10 | D24: =Leistungskennzahlen!D10 | E24: =Leistungskennzahlen!E10 | F24: =Leistungskennzahlen!C26 | G24: =Leistungskennzahlen!D26 | H24: =Leistungskennzahlen!E26 | I24: =Leistungskennzahlen!F26 | J24: =Leistungskennzahlen!G26 | K24: =Leistungskennzahlen!H26 | L24: =Leistungskennzahlen!I26 | M24: =Leistungskennzahlen!J26 | N24: =Leistungskennzahlen!K26 | O24: [l/h]
A26: Auslegung FW - WT | B26: Grädigkeit FW-WT | C26: =IF(Leistungskennzahlen!C11=0,"",Leistungskennzahlen!C11) | D26: =IF(Leistungskennzahlen!D11=0,"",Leistungskennzahlen!D11) | E26: =IF(Leistungskennzahlen!E11=0,"",Leistungskennzahlen!E11) | F26: =IF(Leistungskennzahlen!C27=0,"",Leistungskennzahlen!C27) | G26: =IF(Leistungskennzahlen!D27=0,"",Leistungskennzahlen!D27) | H26: =IF(Leistungskennzahlen!E27=0,"",Leistungskennzahlen!E27) | I26: =IF(Leistungskennzahlen!F27=0,"",Leistungskennzahlen!F27) | J26: =IF(Leistungskennzahlen!G27=0,"",Leistungskennzahlen!G27) | K26: =IF(Leistungskennzahlen!H27=0,"",Leistungskennzahlen!H27) | L26: =IF(Leistungskennzahlen!I27=0,"",Leistungskennzahlen!I27) | M26: =IF(Leistungskennzahlen!J27=0,"",Leistungskennzahlen!J27) | N26: =IF(Leistungskennzahlen!K27=0,"",Leistungskennzahlen!K27) | O26: [K]
B27: log dT | C27: =Leistungskennzahlen!C12 | D27: =Leistungskennzahlen!D12 | E27: =Leistungskennzahlen!E12 | F27: =Leistungskennzahlen!C28 | G27: =Leistungskennzahlen!D28 | H27: =Leistungskennzahlen!E28 | I27: =Leistungskennzahlen!F28 | J27: =Leistungskennzahlen!G28 | K27: =Leistungskennzahlen!H28 | L27: =Leistungskennzahlen!I28 | M27: =Leistungskennzahlen!J28 | N27: =Leistungskennzahlen!K28 | O27: [°C]
B28: k-Wert | C28: =Leistungskennzahlen!C13 | D28: =Leistungskennzahlen!D13 | E28: =Leistungskennzahlen!E13 | F28: =Leistungskennzahlen!C29 | G28: =Leistungskennzahlen!D29 | H28: =Leistungskennzahlen!E29 | I28: =Leistungskennzahlen!F29 | J28: =Leistungskennzahlen!G29 | K28: =Leistungskennzahlen!H29 | L28: =Leistungskennzahlen!I29 | M28: =Leistungskennzahlen!J29 | N28: =Leistungskennzahlen!K29 | O28: [W/°C]
B29: k-Wert | C29: =Leistungskennzahlen!C14 | D29: =Leistungskennzahlen!D14 | E29: =Leistungskennzahlen!E14 | F29: =Leistungskennzahlen!C30 | G29: =Leistungskennzahlen!D30 | H29: =Leistungskennzahlen!E30 | I29: =Leistungskennzahlen!F30 | J29: =Leistungskennzahlen!G30 | K29: =Leistungskennzahlen!H30 | L29: =Leistungskennzahlen!I30 | M29: =Leistungskennzahlen!J30 | N29: =Leistungskennzahlen!K30 | O29: [W/m2/°C]
A31: Brauchwasser Aufheizung nach Entzug von 70 % Warmwasser aus dem Speicher | B31: TW-Aufheiztemperatur | F31: =IF(Leistungskennzahlen!C33=0,"",Leistungskennzahlen!C33) | G31: =IF(Leistungskennzahlen!D33=0,"",Leistungskennzahlen!D33) | H31: =IF(Leistungskennzahlen!E33=0,"",Leistungskennzahlen!E33) | I31: =IF(Leistungskennzahlen!F33=0,"",Leistungskennzahlen!F33) | J31: =IF(Leistungskennzahlen!G33=0,"",Leistungskennzahlen!G33) | K31: =IF(Leistungskennzahlen!H33=0,"",Leistungskennzahlen!H33) | L31: =IF(Leistungskennzahlen!I33=0,"",Leistungskennzahlen!I33) | M31: =IF(Leistungskennzahlen!J33=0,"",Leistungskennzahlen!J33) | N31: =IF(Leistungskennzahlen!K33=0,"",Leistungskennzahlen!K33) | O31: [°C]
B32: Kaltwassertemperatur | F32: =IF(Leistungskennzahlen!C35=0,"",Leistungskennzahlen!C35) | G32: =IF(Leistungskennzahlen!D35=0,"",Leistungskennzahlen!D35) | H32: =IF(Leistungskennzahlen!E35=0,"",Leistungskennzahlen!E35) | I32: =IF(Leistungskennzahlen!F35=0,"",Leistungskennzahlen!F35) | J32: =IF(Leistungskennzahlen!G35=0,"",Leistungskennzahlen!G35) | K32: =IF(Leistungskennzahlen!H35=0,"",Leistungskennzahlen!H35) | L32: =IF(Leistungskennzahlen!I35=0,"",Leistungskennzahlen!I35) | M32: =IF(Leistungskennzahlen!J35=0,"",Leistungskennzahlen!J35) | N32: =IF(Leistungskennzahlen!K35=0,"",Leistungskennzahlen!K35) | O32: [°C]
B33: TWW-Aufheizvolumen bzw. Durchfluss | F33: =Leistungskennzahlen!C36 | G33: =Leistungskennzahlen!D36 | H33: =Leistungskennzahlen!E36 | I33: =Leistungskennzahlen!F36 | J33: =Leistungskennzahlen!G36 | K33: =Leistungskennzahlen!H36 | L33: =Leistungskennzahlen!I36 | M33: =Leistungskennzahlen!J36 | N33: =Leistungskennzahlen!K36 | O33: [l/h]
B34: Grädigkeit TWW-WT | F34: =IF(Leistungskennzahlen!C34=0,"",Leistungskennzahlen!C34) | G34: =IF(Leistungskennzahlen!D34=0,"",Leistungskennzahlen!D34) | H34: =IF(Leistungskennzahlen!E34=0,"",Leistungskennzahlen!E34) | I34: =IF(Leistungskennzahlen!F34=0,"",Leistungskennzahlen!F34) | J34: =IF(Leistungskennzahlen!G34=0,"",Leistungskennzahlen!G34) | K34: =IF(Leistungskennzahlen!H34=0,"",Leistungskennzahlen!H34) | L34: =IF(Leistungskennzahlen!I34=0,"",Leistungskennzahlen!I34) | M34: =IF(Leistungskennzahlen!J34=0,"",Leistungskennzahlen!J34) | N34: =IF(Leistungskennzahlen!K34=0,"",Leistungskennzahlen!K34) | O34: [K]
B35: virtuelles log. ΔT TWW-WT | F35: =Leistungskennzahlen!C37 | G35: =Leistungskennzahlen!D37 | H35: =Leistungskennzahlen!E37 | I35: =Leistungskennzahlen!F37 | J35: =Leistungskennzahlen!G37 | K35: =Leistungskennzahlen!H37 | L35: =Leistungskennzahlen!I37 | M35: =Leistungskennzahlen!J37 | N35: =Leistungskennzahlen!K37 | O35: [°C]
B36: k-Wert | F36: =Leistungskennzahlen!C38 | G36: =Leistungskennzahlen!D38 | H36: =Leistungskennzahlen!E38 | I36: =Leistungskennzahlen!F38 | J36: =Leistungskennzahlen!G38 | K36: =Leistungskennzahlen!H38 | L36: =Leistungskennzahlen!I38 | M36: =Leistungskennzahlen!J38 | N36: =Leistungskennzahlen!K38 | O36: [W/°C]
B37: k-Wert | F37: =Leistungskennzahlen!C39 | G37: =Leistungskennzahlen!D39 | H37: =Leistungskennzahlen!E39 | I37: =Leistungskennzahlen!F39 | J37: =Leistungskennzahlen!G39 | K37: =Leistungskennzahlen!H39 | L37: =Leistungskennzahlen!I39 | M37: =Leistungskennzahlen!J39 | N37: =Leistungskennzahlen!K39 | O37: [W/m2/°C]
B38: Heizunterbruch | F38: =Leistungskennzahlen!C40 | I38: =Leistungskennzahlen!F40 | L38: =Leistungskennzahlen!I40 | O38: [min]
B39: mittlere Fernwärme- Rücklauftemperatur | F39: =Leistungskennzahlen!C41 | I39: =Leistungskennzahlen!F41 | L39: =Leistungskennzahlen!I41 | O39: [°C]
B40: mittlere Trinkwarmwasser- Aufheizleistung | F40: =Leistungskennzahlen!C42 | I40: =Leistungskennzahlen!F42 | L40: =Leistungskennzahlen!I42 | O40: [kW]
B41: mittlere Ausnutzung der REFUNA FW | F41: =Leistungskennzahlen!C43 | I41: =Leistungskennzahlen!F43 | L41: =Leistungskennzahlen!I43 | O41: [%]
A43: Genehmigung der REFUNA AG
A44: Datum | D44: Unterschrift

Sheet Dimensionsierungsvorgaben WT
A1: Vorgaben für die Wärmetauscher | F1: Dimensionierung
A3: Ortsnetz | B3: =Eingaben!C7 -> 0 | C3: FW-Objekt Nr. | D3: =Eingaben!C8 -> 0 | E3: Datum | F3: =Eingaben!C6 -> 0
A5: Wärmebezüger | D5: Verantwortlich für die Auslegung
A6: Name | B6: =Eingaben!C11 -> 0 | D6: Firma | E6: =Eingaben!C19 -> 0
A7: Adresse | B7: =Eingaben!C12 -> 0 | D7: Adresse | E7: =Eingaben!C20 -> 0
A8: Wohnort | B8: =Eingaben!C13 -> 0 | D8: PLZ / Ort | E8: =Eingaben!C21 -> 0
A9: Telefon-Nr. | B9: =Eingaben!C14 -> 0 | D9: Telefon-Nr. | E9: =Eingaben!C22 -> 0
A10: Anlagestandort | B10: =Eingaben!C15 -> 0 | D10: Sachbearbeiter:in | E10: =Eingaben!C23 -> 0
A11: Adresse | B11: =Eingaben!C16 -> 0 | D11: Datum + Unterschrift
A14: Hinweis
A15: Für Hausstationen mit Heizbetrieb und Brauchwasseraufheizung in Vorrangschaltung muss der Wärmetauscher die thermischen Vorgaben für beide Betriebsarten erfüllen.
A18: Minimale Wärmetauscheranforderungen - Trinkwarmwasseraufheizbetrieb in Vorrangschaltung
A20: thermische Leistung | C20: =Leistungskennzahlen!I23
A22: Vorlauftemperatur primär | C22: =Leistungskennzahlen!I20 -> 75
A23: Rücklauftemperatur primär | C23: =Leistungskennzahlen!I21
A24: Durchfluss primär | C24: =Leistungskennzahlen!I22 -> 159
A26: max. zulässiger Druckabfall primär | C26: 15
A27: Grädigkeit | C27: ='Datenblatt 2'!L26 | D27: =IF(C27>5,"Die maximal zulässige Grädigkeit von 5°C wird überschritten","") -> Die maximal zulässige Grädigkeit von 5°C wird überschritten
A29: Vorlauftemperatur sekundär | C29: =Leistungskennzahlen!I24
A30: Rücklauftemperatur sekundär | C30: =Leistungskennzahlen!I25
A31: Durchfluss sekundär | C31: =Leistungskennzahlen!I26
A33: log. ΔT | C33: =Leistungskennzahlen!I28
A34: erforderlicher k - Wert | C34: =Leistungskennzahlen!I29
A36: Minimale Wärmetauscheranforderungen - Heizbetrieb in Vorrangschaltung
A38: thermische Leistung | C38: =Leistungskennzahlen!C8 -> 10.0011
A40: Vorlauftemperatur primär | C40: =Eingaben!C44 -> 115
A41: Rücklauftemperatur primär | C41: =Eingaben!C47 -> 0
A42: Durchfluss primär | C42: =Leistungskennzahlen!C9 -> 159
A44: max. zulässiger Druckabfall primär | C44: 15
A45: Grädigkeit | C45: =Leistungskennzahlen!C11 -> 0 | D45: =IF(C45>5,"Die maximal zulässige Grädigkeit von 5°C wird überschritten","")
A47: Vorlauftemperatur sekundär | C47: =Eingaben!C98 -> 0
A48: Rücklauftemperatur sekundär | C48: =Eingaben!C101 -> 0
A49: Durchfluss sekundär | C49: =Leistungskennzahlen!C10
A51: log. ΔT | C51: =Leistungskennzahlen!C12
A52: erforderlicher k - Wert | C52: =Leistungskennzahlen!C13

Sheet Dropdowns
A1: Bauart der Hauszentrale | D1: Rücklaufbegrenzungsventil | F1: Regler | H1: Wärmetauscher Primär | L1: Dichtungen | R1: Wärmetauscher Sekundär | V1: Speichervolumen | X1: Bauvorhaben
A2: Kompakt | D2: Landis+Gyr | F2: L&G | H2: Platten (kupfergelötet) | L2: PTFE- Dichtungen | R2: Einfach Rohrbündel im Speicher | V2: 200 | X2: Sanierung
A3: Split | D3: Siemens | F3: Siemens | H3: U-Rohrbündel | L3: Graphitdichtungen | R3: Mehrfach Rohrbündel im Speicher | V3: 300 | X3: Neubau
D4: Sauter | F4: Sauter | H4: Geraderohr | L4: Faserdichtungen | R4: Doppelmantelsystem | V4: 400
F5: TEM | L5: Metalldichtungen | R5: Speicher in Speicher-System | V5: 500
A6: Generell | R6: aussenliegend | V6: 600
A7: Ja | V7: 800
A8: Nein
H9: geflanscht
H10: geschraubt

Sheet Hilfstabellen
A1: Dimension Hausanschluss
A2: 0 | B2: starr: DN20, flexibel: Ø 30 mm
A3: 41 | B3: starr: DN20, flexibel: Ø 30 mm
A4: 75 | B4: starr: DN25, flexibel:. Ø 39 mm
A5: 179 | B5: starr: DN32, flexibel: Ø 48 mm
A6: 262 | B6: starr: DN40, flexibel: Ø 60 mm
A7: 501 | B7: starr: DN50
A8: 1000 | B8: starr: DN65
A10: WT Primär/ Sekundär
A11: 1 | B11: Hinweis: Die Vorgaben der Technischen Vorschriften TAV über Flanschverbindungen müssen eingehalten und erfüllt sein.
A12: 2 | B12: Hinweis: Die Vorgaben der Technischen Vorschriften TAV über Verschraubungen müssen eingehalten und erfüllt sein.
A14: Überprüfung kvs Wert
A15: Der kvs-Wert liegt oberhalb des max. Sollwertes. | B15: Der Verantwortliche und der Vertragspartner muss auf das daraus resultierende schlechtere bis möglicherweise ungenügende Regelverhalten hingewiesen werden.
A16: Der kvs-Wert liegt unterhalb des min. Sollwertes. | B16: Die Einhaltung der Druckabfallvorschriften der TAV betreffend dem gesamten Druckabfall "Ventil + WT" ist zu überprüfen.
A18: Registerfläche
A19: 1 | B19: min. Registerfläche 2.6 m2 | E19: 200
A20: 2 | B20: min. Registerfläche 3.4 m2 | E20: 300
A21: 3 | B21: min. Registerfläche 4.7 m2 | E21: 400
A22: 4 | B22: min. Registerfläche 5.0 m2 | E22: 500
A23: 5 | B23: min. Registerfläche 6.0 m2 | E23: 600
A24: 6 | B24: min. Registerfläche 8.0 m2 | E24: 800
A26: Zirkulation
A27: 1 | B27: Vom Verantwortlichen und Vertragspartner muss verbindlich sichergestellt werden, dass die Temperaturschichtung im Speicher durch die Wahl und die Ausführung der Zirkulationsrückführung, unabhängig von deren Temperatur und Durchflussmenge, nicht gestört wird (keine Durchmischung des Speicherinhaltes und keine nennenswerte Reduktion der Brauchwasser-Austritttemperatur durch die Zirkulation).
A28: 2 | B28: -
A30: Bauvorhaben
A31: 1 | B31: 15.9 | C31: 0.0629
A32: 2 | B32: 13.85 | C32: 0.0722
A34: Dichtungen
A35: 1 | B35: Topchem 2000 | F35: PTFE- Dichtungen, Topchem 2000
A36: 2 | B36: Graphit Laminat mit Spiessblech | F36: Graphitdichtungen, Graphit Laminat mit Spiessblech
A37: 3 | B37: HD 300, asbestfrei, min. 250°C beständig | F37: Faserdichtungen, HD 300, asbestfrei, min. 250°C beständig
A38: 4 | B38: Aus Reinkupfer und Reinnickel | F38: Metalldichtungen, aus Reinkupfer und Reinnickel
A40: Regelventil/ Volumenstrombegrenzer
A42: Durchfluss max | B42: kvs | C42: Art.Nr.
A43: 180 | B43: 0.4 | C43: Art.Nr. 003H6746
A44: 400 | B44: 1 | C44: Art.Nr. 003H6747
A45: 900 | B45: 1.6 | C45: Art.Nr. 003H6748
A46: 1600 | B46: 2.5 | C46: Art.Nr. 003H6749
A47: 2400 | B47: 4 | C47: Art.Nr. 003H6750
A48: 3500 | B48: 6.3 | C48: Art.Nr. 003H6751
...
